{
 "currentVersion": 10.5,
 "serviceDescription": " Un database topografico costituisce la base cartografica digitale di riferimento utile per gli strumenti di pianificazione. Al suo interno è<\/SPAN>possibile archiviare numerosi oggetti, di diversa geometria, legati fra loro attraverso relazioni topologiche. Ogni singolo oggetto possiede una posizione geografica, sotto forma di coordinate, una relazione di vicinanza con gli oggetti vicini ed una tabella contenente i suoi attributi.<\/SPAN><\/P><\/DIV><\/DIV>",
 "mapName": "Database topografico",
 "description": "",
 "copyrightText": "Globo srl",
 "supportsDynamicLayers": true,
 "layers": [
  {
   "id": 0,
   "name": "DBT Vimercate",
   "parentLayerId": -1,
   "defaultVisibility": true,
   "subLayerIds": [
    1,
    15
   ],
   "minScale": 0,
   "maxScale": 0
  },
  {
   "id": 1,
   "name": "DBT piccola scala",
   "parentLayerId": 0,
   "defaultVisibility": true,
   "subLayerIds": [
    2
   ],
   "minScale": 0,
   "maxScale": 10011
  },
  {
   "id": 2,
   "name": "DBT",
   "parentLayerId": 1,
   "defaultVisibility": true,
   "subLayerIds": [
    3,
    4,
    5,
    6,
    7,
    8,
    9,
    10,
    11,
    12,
    13,
    14
   ],
   "minScale": 28010,
   "maxScale": 0
  },
  {
   "id": 3,
   "name": "_Limite amministrativo",
   "parentLayerId": 2,
   "defaultVisibility": true,
   "subLayerIds": null,
   "minScale": 0,
   "maxScale": 10011
  },
  {
   "id": 4,
   "name": "_Curve di livello",
   "parentLayerId": 2,
   "defaultVisibility": true,
   "subLayerIds": null,
   "minScale": 50010,
   "maxScale": 10011
  },
  {
   "id": 5,
   "name": "_Elemento di metropolitana",
   "parentLayerId": 2,
   "defaultVisibility": true,
   "subLayerIds": null,
   "minScale": 50010,
   "maxScale": 10011
  },
  {
   "id": 6,
   "name": "_Elemento divisorio",
   "parentLayerId": 2,
   "defaultVisibility": true,
   "subLayerIds": null,
   "minScale": 50010,
   "maxScale": 10011
  },
  {
   "id": 7,
   "name": "_Rete elettrica",
   "parentLayerId": 2,
   "defaultVisibility": true,
   "subLayerIds": null,
   "minScale": 50010,
   "maxScale": 10011
  },
  {
   "id": 8,
   "name": "_Scarpata",
   "parentLayerId": 2,
   "defaultVisibility": true,
   "subLayerIds": null,
   "minScale": 50010,
   "maxScale": 10011
  },
  {
   "id": 9,
   "name": "_Gradinata",
   "parentLayerId": 2,
   "defaultVisibility": true,
   "subLayerIds": null,
   "minScale": 50010,
   "maxScale": 10011
  },
  {
   "id": 10,
   "name": "_Attrezzatura sportiva",
   "parentLayerId": 2,
   "defaultVisibility": true,
   "subLayerIds": null,
   "minScale": 50010,
   "maxScale": 10011
  },
  {
   "id": 11,
   "name": "_Edificio",
   "parentLayerId": 2,
   "defaultVisibility": true,
   "subLayerIds": null,
   "minScale": 50010,
   "maxScale": 10011
  },
  {
   "id": 12,
   "name": "_Area verde",
   "parentLayerId": 2,
   "defaultVisibility": true,
   "subLayerIds": null,
   "minScale": 50010,
   "maxScale": 10011
  },
  {
   "id": 13,
   "name": "_Area attrezzata al suolo",
   "parentLayerId": 2,
   "defaultVisibility": true,
   "subLayerIds": null,
   "minScale": 50010,
   "maxScale": 10011
  },
  {
   "id": 14,
   "name": "_Area stradale",
   "parentLayerId": 2,
   "defaultVisibility": true,
   "subLayerIds": null,
   "minScale": 50010,
   "maxScale": 10011
  },
  {
   "id": 15,
   "name": "DBT grande scala",
   "parentLayerId": 0,
   "defaultVisibility": true,
   "subLayerIds": [
    16,
    17,
    18,
    19,
    20,
    24,
    25,
    26,
    29,
    30,
    31,
    32,
    33,
    47,
    55,
    57,
    61,
    70,
    83,
    84,
    88,
    89,
    96,
    104,
    107,
    110
   ],
   "minScale": 10010,
   "maxScale": 0
  },
  {
   "id": 16,
   "name": "_#Comuni DBT",
   "parentLayerId": 15,
   "defaultVisibility": true,
   "subLayerIds": null,
   "minScale": 0,
   "maxScale": 0
  },
  {
   "id": 17,
   "name": "_#Informazioni cartografiche",
   "parentLayerId": 15,
   "defaultVisibility": true,
   "subLayerIds": null,
   "minScale": 0,
   "maxScale": 0
  },
  {
   "id": 18,
   "name": "Limite amministrativo",
   "parentLayerId": 15,
   "defaultVisibility": true,
   "subLayerIds": null,
   "minScale": 0,
   "maxScale": 0
  },
  {
   "id": 19,
   "name": "_Vestizione puntuale",
   "parentLayerId": 15,
   "defaultVisibility": true,
   "subLayerIds": null,
   "minScale": 3000,
   "maxScale": 0
  },
  {
   "id": 20,
   "name": "Scritte cartografiche",
   "parentLayerId": 15,
   "defaultVisibility": true,
   "subLayerIds": [
    21,
    22,
    23
   ],
   "minScale": 0,
   "maxScale": 0
  },
  {
   "id": 21,
   "name": "_#Località significative 10000",
   "parentLayerId": 20,
   "defaultVisibility": true,
   "subLayerIds": null,
   "minScale": 10010,
   "maxScale": 2271
  },
  {
   "id": 22,
   "name": "_#Scritta cartografica 2000",
   "parentLayerId": 20,
   "defaultVisibility": true,
   "subLayerIds": null,
   "minScale": 3000,
   "maxScale": 0
  },
  {
   "id": 23,
   "name": "_#Nome via",
   "parentLayerId": 20,
   "defaultVisibility": true,
   "subLayerIds": null,
   "minScale": 3000,
   "maxScale": 0
  },
  {
   "id": 24,
   "name": "Vestizioni generiche lineari",
   "parentLayerId": 15,
   "defaultVisibility": true,
   "subLayerIds": null,
   "minScale": 3000,
   "maxScale": 0
  },
  {
   "id": 25,
   "name": "Unità insediativa",
   "parentLayerId": 15,
   "defaultVisibility": true,
   "subLayerIds": null,
   "minScale": 30010,
   "maxScale": 0
  },
  {
   "id": 26,
   "name": "Altimetria",
   "parentLayerId": 15,
   "defaultVisibility": true,
   "subLayerIds": [
    27,
    28
   ],
   "minScale": 0,
   "maxScale": 0
  },
  {
   "id": 27,
   "name": "Curve di livello",
   "parentLayerId": 26,
   "defaultVisibility": true,
   "subLayerIds": null,
   "minScale": 20010,
   "maxScale": 0
  },
  {
   "id": 28,
   "name": "Breakline",
   "parentLayerId": 26,
   "defaultVisibility": true,
   "subLayerIds": null,
   "minScale": 20010,
   "maxScale": 0
  },
  {
   "id": 29,
   "name": "Albero isolato",
   "parentLayerId": 15,
   "defaultVisibility": true,
   "subLayerIds": null,
   "minScale": 3000,
   "maxScale": 0
  },
  {
   "id": 30,
   "name": "Elemento divisorio",
   "parentLayerId": 15,
   "defaultVisibility": true,
   "subLayerIds": null,
   "minScale": 10010,
   "maxScale": 0
  },
  {
   "id": 31,
   "name": "Rete elettrica",
   "parentLayerId": 15,
   "defaultVisibility": true,
   "subLayerIds": null,
   "minScale": 10010,
   "maxScale": 0
  },
  {
   "id": 32,
   "name": "Accessi",
   "parentLayerId": 15,
   "defaultVisibility": true,
   "subLayerIds": null,
   "minScale": 3000,
   "maxScale": 0
  },
  {
   "id": 33,
   "name": "Manufatti",
   "parentLayerId": 15,
   "defaultVisibility": true,
   "subLayerIds": [
    34,
    35,
    36,
    37,
    38,
    39,
    40,
    41,
    42,
    43,
    44,
    45,
    46
   ],
   "minScale": 0,
   "maxScale": 0
  },
  {
   "id": 34,
   "name": "Limite Conduttura",
   "parentLayerId": 33,
   "defaultVisibility": true,
   "subLayerIds": null,
   "minScale": 5010,
   "maxScale": 0
  },
  {
   "id": 35,
   "name": "Localizzazione di manufatto industriale/di trasporto",
   "parentLayerId": 33,
   "defaultVisibility": true,
   "subLayerIds": null,
   "minScale": 3000,
   "maxScale": 0
  },
  {
   "id": 36,
   "name": "Localizzazione manufatto edilizio arredo/igiene urbana",
   "parentLayerId": 33,
   "defaultVisibility": true,
   "subLayerIds": null,
   "minScale": 3000,
   "maxScale": 0
  },
  {
   "id": 37,
   "name": "Palo",
   "parentLayerId": 33,
   "defaultVisibility": true,
   "subLayerIds": null,
   "minScale": 3000,
   "maxScale": 0
  },
  {
   "id": 38,
   "name": "Sostegno a traliccio",
   "parentLayerId": 33,
   "defaultVisibility": true,
   "subLayerIds": null,
   "minScale": 3000,
   "maxScale": 0
  },
  {
   "id": 39,
   "name": "Condotta",
   "parentLayerId": 33,
   "defaultVisibility": true,
   "subLayerIds": null,
   "minScale": 10010,
   "maxScale": 0
  },
  {
   "id": 40,
   "name": "Manufatto industriale",
   "parentLayerId": 33,
   "defaultVisibility": true,
   "subLayerIds": null,
   "minScale": 10010,
   "maxScale": 0
  },
  {
   "id": 41,
   "name": "Gradinata",
   "parentLayerId": 33,
   "defaultVisibility": true,
   "subLayerIds": null,
   "minScale": 10010,
   "maxScale": 0
  },
  {
   "id": 42,
   "name": "Attrezzatura sportiva",
   "parentLayerId": 33,
   "defaultVisibility": true,
   "subLayerIds": null,
   "minScale": 10010,
   "maxScale": 0
  },
  {
   "id": 43,
   "name": "Sostegno a traliccio",
   "parentLayerId": 33,
   "defaultVisibility": true,
   "subLayerIds": null,
   "minScale": 3001,
   "maxScale": 0
  },
  {
   "id": 44,
   "name": "Manufatto monumentale e di arredo urbano",
   "parentLayerId": 33,
   "defaultVisibility": true,
   "subLayerIds": null,
   "minScale": 10010,
   "maxScale": 0
  },
  {
   "id": 45,
   "name": "Manufatto di infrastruttura di trasporto",
   "parentLayerId": 33,
   "defaultVisibility": true,
   "subLayerIds": null,
   "minScale": 10010,
   "maxScale": 0
  },
  {
   "id": 46,
   "name": "Conduttura",
   "parentLayerId": 33,
   "defaultVisibility": true,
   "subLayerIds": null,
   "minScale": 3001,
   "maxScale": 0
  },
  {
   "id": 47,
   "name": "Edificato",
   "parentLayerId": 15,
   "defaultVisibility": true,
   "subLayerIds": [
    48,
    49,
    50,
    51,
    52,
    53,
    54
   ],
   "minScale": 0,
   "maxScale": 0
  },
  {
   "id": 48,
   "name": "Limiti unità volumetrica",
   "parentLayerId": 47,
   "defaultVisibility": true,
   "subLayerIds": null,
   "minScale": 3001,
   "maxScale": 0
  },
  {
   "id": 49,
   "name": "Elemento di copertura",
   "parentLayerId": 47,
   "defaultVisibility": true,
   "subLayerIds": null,
   "minScale": 10010,
   "maxScale": 0
  },
  {
   "id": 50,
   "name": "Particolare architettonico",
   "parentLayerId": 47,
   "defaultVisibility": true,
   "subLayerIds": null,
   "minScale": 3001,
   "maxScale": 0
  },
  {
   "id": 51,
   "name": "Edificio - stato",
   "parentLayerId": 47,
   "defaultVisibility": true,
   "subLayerIds": null,
   "minScale": 10010,
   "maxScale": 0
  },
  {
   "id": 52,
   "name": "Edificio",
   "parentLayerId": 47,
   "defaultVisibility": true,
   "subLayerIds": null,
   "minScale": 10010,
   "maxScale": 0
  },
  {
   "id": 53,
   "name": "Edificio minore",
   "parentLayerId": 47,
   "defaultVisibility": true,
   "subLayerIds": null,
   "minScale": 10010,
   "maxScale": 0
  },
  {
   "id": 54,
   "name": "Unità volumetrica",
   "parentLayerId": 47,
   "defaultVisibility": true,
   "subLayerIds": null,
   "minScale": 3001,
   "maxScale": 0
  },
  {
   "id": 55,
   "name": "Opere di sostegno e difesa del suolo",
   "parentLayerId": 15,
   "defaultVisibility": true,
   "subLayerIds": [
    56
   ],
   "minScale": 0,
   "maxScale": 0
  },
  {
   "id": 56,
   "name": "Muro di sostegno e ritenuta del terreno",
   "parentLayerId": 55,
   "defaultVisibility": true,
   "subLayerIds": null,
   "minScale": 10010,
   "maxScale": 0
  },
  {
   "id": 57,
   "name": "Ferrovie",
   "parentLayerId": 15,
   "defaultVisibility": true,
   "subLayerIds": [
    58,
    59,
    60
   ],
   "minScale": 0,
   "maxScale": 0
  },
  {
   "id": 58,
   "name": "Elemento di metropolitana",
   "parentLayerId": 57,
   "defaultVisibility": true,
   "subLayerIds": null,
   "minScale": 10010,
   "maxScale": 0
  },
  {
   "id": 59,
   "name": "Elemento ferroviario",
   "parentLayerId": 57,
   "defaultVisibility": true,
   "subLayerIds": null,
   "minScale": 10010,
   "maxScale": 0
  },
  {
   "id": 60,
   "name": "Binario industriale",
   "parentLayerId": 57,
   "defaultVisibility": true,
   "subLayerIds": null,
   "minScale": 10010,
   "maxScale": 0
  },
  {
   "id": 61,
   "name": "Aree agro-forestali",
   "parentLayerId": 15,
   "defaultVisibility": true,
   "subLayerIds": [
    62,
    63,
    64,
    65,
    66,
    67,
    68,
    69
   ],
   "minScale": 0,
   "maxScale": 0
  },
  {
   "id": 62,
   "name": "Limiti Bosco",
   "parentLayerId": 61,
   "defaultVisibility": true,
   "subLayerIds": null,
   "minScale": 10010,
   "maxScale": 0
  },
  {
   "id": 63,
   "name": "Limiti Colture agricole",
   "parentLayerId": 61,
   "defaultVisibility": true,
   "subLayerIds": null,
   "minScale": 10010,
   "maxScale": 0
  },
  {
   "id": 64,
   "name": "Limiti Pascoli o incolti",
   "parentLayerId": 61,
   "defaultVisibility": true,
   "subLayerIds": null,
   "minScale": 10010,
   "maxScale": 0
  },
  {
   "id": 65,
   "name": "Bosco",
   "parentLayerId": 61,
   "defaultVisibility": true,
   "subLayerIds": null,
   "minScale": 30010,
   "maxScale": 0
  },
  {
   "id": 66,
   "name": "Pascolo o incolto",
   "parentLayerId": 61,
   "defaultVisibility": true,
   "subLayerIds": null,
   "minScale": 30010,
   "maxScale": 0
  },
  {
   "id": 67,
   "name": "Coltura agricola",
   "parentLayerId": 61,
   "defaultVisibility": true,
   "subLayerIds": null,
   "minScale": 30010,
   "maxScale": 0
  },
  {
   "id": 68,
   "name": "Formazione particolare",
   "parentLayerId": 61,
   "defaultVisibility": true,
   "subLayerIds": null,
   "minScale": 10010,
   "maxScale": 0
  },
  {
   "id": 69,
   "name": "Aree temporaneamente prive di vegetazione",
   "parentLayerId": 61,
   "defaultVisibility": true,
   "subLayerIds": null,
   "minScale": 30010,
   "maxScale": 0
  },
  {
   "id": 70,
   "name": "Strade",
   "parentLayerId": 15,
   "defaultVisibility": true,
   "subLayerIds": [
    71,
    72,
    73,
    74,
    75,
    76,
    77,
    78,
    79,
    80,
    81,
    82
   ],
   "minScale": 0,
   "maxScale": 0
  },
  {
   "id": 71,
   "name": "Limiti Aree di circolazione ciclabile",
   "parentLayerId": 70,
   "defaultVisibility": true,
   "subLayerIds": null,
   "minScale": 10010,
   "maxScale": 0
  },
  {
   "id": 72,
   "name": "Limiti area di circolazione pedonale",
   "parentLayerId": 70,
   "defaultVisibility": true,
   "subLayerIds": null,
   "minScale": 10010,
   "maxScale": 0
  },
  {
   "id": 73,
   "name": "Limiti area stradale",
   "parentLayerId": 70,
   "defaultVisibility": true,
   "subLayerIds": null,
   "minScale": 10010,
   "maxScale": 0
  },
  {
   "id": 74,
   "name": "Limiti Galleria",
   "parentLayerId": 70,
   "defaultVisibility": true,
   "subLayerIds": null,
   "minScale": 10010,
   "maxScale": 0
  },
  {
   "id": 75,
   "name": "Limiti Viabilità mista secondaria",
   "parentLayerId": 70,
   "defaultVisibility": true,
   "subLayerIds": null,
   "minScale": 10010,
   "maxScale": 0
  },
  {
   "id": 76,
   "name": "Area di circolazione pedonale",
   "parentLayerId": 70,
   "defaultVisibility": true,
   "subLayerIds": null,
   "minScale": 10010,
   "maxScale": 0
  },
  {
   "id": 77,
   "name": "Area stradale",
   "parentLayerId": 70,
   "defaultVisibility": true,
   "subLayerIds": null,
   "minScale": 10010,
   "maxScale": 0
  },
  {
   "id": 78,
   "name": "Area di circolazione ciclabile",
   "parentLayerId": 70,
   "defaultVisibility": true,
   "subLayerIds": null,
   "minScale": 10010,
   "maxScale": 0
  },
  {
   "id": 79,
   "name": "Area di circolazione veicolare",
   "parentLayerId": 70,
   "defaultVisibility": true,
   "subLayerIds": null,
   "minScale": 10010,
   "maxScale": 0
  },
  {
   "id": 80,
   "name": "Aree a servizio stradale",
   "parentLayerId": 70,
   "defaultVisibility": true,
   "subLayerIds": null,
   "minScale": 30010,
   "maxScale": 0
  },
  {
   "id": 81,
   "name": "Galleria",
   "parentLayerId": 70,
   "defaultVisibility": true,
   "subLayerIds": null,
   "minScale": 10010,
   "maxScale": 0
  },
  {
   "id": 82,
   "name": "Viabilità mista secondaria",
   "parentLayerId": 70,
   "defaultVisibility": true,
   "subLayerIds": null,
   "minScale": 10010,
   "maxScale": 0
  },
  {
   "id": 83,
   "name": "Sede di trasporto su ferro",
   "parentLayerId": 15,
   "defaultVisibility": true,
   "subLayerIds": null,
   "minScale": 10010,
   "maxScale": 0
  },
  {
   "id": 84,
   "name": "Verde urbano",
   "parentLayerId": 15,
   "defaultVisibility": true,
   "subLayerIds": [
    85,
    86,
    87
   ],
   "minScale": 0,
   "maxScale": 0
  },
  {
   "id": 85,
   "name": "Limiti area verde",
   "parentLayerId": 84,
   "defaultVisibility": true,
   "subLayerIds": null,
   "minScale": 10010,
   "maxScale": 0
  },
  {
   "id": 86,
   "name": "Filare di alberi",
   "parentLayerId": 84,
   "defaultVisibility": true,
   "subLayerIds": null,
   "minScale": 10010,
   "maxScale": 0
  },
  {
   "id": 87,
   "name": "Area verde",
   "parentLayerId": 84,
   "defaultVisibility": true,
   "subLayerIds": null,
   "minScale": 30010,
   "maxScale": 0
  },
  {
   "id": 88,
   "name": "Area attrezzata al suolo",
   "parentLayerId": 15,
   "defaultVisibility": true,
   "subLayerIds": null,
   "minScale": 10010,
   "maxScale": 0
  },
  {
   "id": 89,
   "name": "Superfici idrografiche",
   "parentLayerId": 15,
   "defaultVisibility": true,
   "subLayerIds": [
    90,
    91,
    92,
    93,
    94,
    95
   ],
   "minScale": 0,
   "maxScale": 0
  },
  {
   "id": 90,
   "name": "Limiti Aree bagnate di corso d'acqua",
   "parentLayerId": 89,
   "defaultVisibility": true,
   "subLayerIds": null,
   "minScale": 10010,
   "maxScale": 0
  },
  {
   "id": 91,
   "name": "Limiti Specchio d'acqua",
   "parentLayerId": 89,
   "defaultVisibility": true,
   "subLayerIds": null,
   "minScale": 10010,
   "maxScale": 0
  },
  {
   "id": 92,
   "name": "Area bagnata di corso d'acqua",
   "parentLayerId": 89,
   "defaultVisibility": true,
   "subLayerIds": null,
   "minScale": 30010,
   "maxScale": 0
  },
  {
   "id": 93,
   "name": "Specchio d'acqua",
   "parentLayerId": 89,
   "defaultVisibility": true,
   "subLayerIds": null,
   "minScale": 10010,
   "maxScale": 0
  },
  {
   "id": 94,
   "name": "Invaso artificiale",
   "parentLayerId": 89,
   "defaultVisibility": true,
   "subLayerIds": null,
   "minScale": 10010,
   "maxScale": 0
  },
  {
   "id": 95,
   "name": "Alveo specchio d'acqua",
   "parentLayerId": 89,
   "defaultVisibility": true,
   "subLayerIds": null,
   "minScale": 10010,
   "maxScale": 0
  },
  {
   "id": 96,
   "name": "Forma del terreno",
   "parentLayerId": 15,
   "defaultVisibility": true,
   "subLayerIds": [
    97,
    98,
    99,
    100,
    101,
    102,
    103
   ],
   "minScale": 0,
   "maxScale": 0
  },
  {
   "id": 97,
   "name": "Limiti Alveo naturale",
   "parentLayerId": 96,
   "defaultVisibility": true,
   "subLayerIds": null,
   "minScale": 10010,
   "maxScale": 0
  },
  {
   "id": 98,
   "name": "Limiti Alveo artificiale",
   "parentLayerId": 96,
   "defaultVisibility": true,
   "subLayerIds": null,
   "minScale": 10010,
   "maxScale": 0
  },
  {
   "id": 99,
   "name": "Scarpata",
   "parentLayerId": 96,
   "defaultVisibility": true,
   "subLayerIds": null,
   "minScale": 10010,
   "maxScale": 0
  },
  {
   "id": 100,
   "name": "Area in trasformazione o non strutturata",
   "parentLayerId": 96,
   "defaultVisibility": true,
   "subLayerIds": null,
   "minScale": 10010,
   "maxScale": 0
  },
  {
   "id": 101,
   "name": "Alveo naturale",
   "parentLayerId": 96,
   "defaultVisibility": true,
   "subLayerIds": null,
   "minScale": 10010,
   "maxScale": 0
  },
  {
   "id": 102,
   "name": "Alveo artificiale",
   "parentLayerId": 96,
   "defaultVisibility": true,
   "subLayerIds": null,
   "minScale": 10010,
   "maxScale": 0
  },
  {
   "id": 103,
   "name": "Area di scavo o discarica",
   "parentLayerId": 96,
   "defaultVisibility": true,
   "subLayerIds": null,
   "minScale": 30010,
   "maxScale": 0
  },
  {
   "id": 104,
   "name": "Opere infrastrutturali, Trasporto",
   "parentLayerId": 15,
   "defaultVisibility": true,
   "subLayerIds": [
    105,
    106
   ],
   "minScale": 0,
   "maxScale": 0
  },
  {
   "id": 105,
   "name": "Limiti Ponte/viadotto/cavalcavia",
   "parentLayerId": 104,
   "defaultVisibility": true,
   "subLayerIds": null,
   "minScale": 10010,
   "maxScale": 0
  },
  {
   "id": 106,
   "name": "Ponte/viadotto/cavalcavia",
   "parentLayerId": 104,
   "defaultVisibility": true,
   "subLayerIds": null,
   "minScale": 10010,
   "maxScale": 0
  },
  {
   "id": 107,
   "name": "Opere idrauliche di difesa e regimazione",
   "parentLayerId": 15,
   "defaultVisibility": true,
   "subLayerIds": [
    108,
    109
   ],
   "minScale": 0,
   "maxScale": 0
  },
  {
   "id": 108,
   "name": "Limiti Argini",
   "parentLayerId": 107,
   "defaultVisibility": true,
   "subLayerIds": null,
   "minScale": 15010,
   "maxScale": 0
  },
  {
   "id": 109,
   "name": "Argine",
   "parentLayerId": 107,
   "defaultVisibility": true,
   "subLayerIds": null,
   "minScale": 15010,
   "maxScale": 0
  },
  {
   "id": 110,
   "name": "Opere portuali e difesa delle coste",
   "parentLayerId": 15,
   "defaultVisibility": true,
   "subLayerIds": [
    111
   ],
   "minScale": 0,
   "maxScale": 0
  },
  {
   "id": 111,
   "name": "Opere idrauliche di regolazione",
   "parentLayerId": 110,
   "defaultVisibility": true,
   "subLayerIds": null,
   "minScale": 2270,
   "maxScale": 0
  },
  {
   "id": 112,
   "name": "_#Sfondo bianco",
   "parentLayerId": -1,
   "defaultVisibility": true,
   "subLayerIds": null,
   "minScale": 25000,
   "maxScale": 0
  }
 ],
 "tables": [],
 "spatialReference": {
  "wkid": 102100,
  "latestWkid": 3857
 },
 "singleFusedMapCache": true,
 "tileInfo": {
  "rows": 256,
  "cols": 256,
  "dpi": 96,
  "format": "PNG",
  "compressionQuality": 0,
  "origin": {
   "x": -2.0037508342787E7,
   "y": 2.0037508342787E7
  },
  "spatialReference": {
   "wkid": 102100,
   "latestWkid": 3857
  },
  "lods": [
   {
    "level": 0,
    "resolution": 156543.033928,
    "scale": 5.91657527591555E8
   },
   {
    "level": 1,
    "resolution": 78271.5169639999,
    "scale": 2.95828763795777E8
   },
   {
    "level": 2,
    "resolution": 39135.7584820001,
    "scale": 1.47914381897889E8
   },
   {
    "level": 3,
    "resolution": 19567.8792409999,
    "scale": 7.3957190948944E7
   },
   {
    "level": 4,
    "resolution": 9783.93962049996,
    "scale": 3.6978595474472E7
   },
   {
    "level": 5,
    "resolution": 4891.96981024998,
    "scale": 1.8489297737236E7
   },
   {
    "level": 6,
    "resolution": 2445.98490512499,
    "scale": 9244648.868618
   },
   {
    "level": 7,
    "resolution": 1222.99245256249,
    "scale": 4622324.434309
   },
   {
    "level": 8,
    "resolution": 611.49622628138,
    "scale": 2311162.217155
   },
   {
    "level": 9,
    "resolution": 305.748113140558,
    "scale": 1155581.108577
   },
   {
    "level": 10,
    "resolution": 152.874056570411,
    "scale": 577790.554289
   },
   {
    "level": 11,
    "resolution": 76.4370282850732,
    "scale": 288895.277144
   },
   {
    "level": 12,
    "resolution": 38.2185141425366,
    "scale": 144447.638572
   },
   {
    "level": 13,
    "resolution": 19.1092570712683,
    "scale": 72223.819286
   },
   {
    "level": 14,
    "resolution": 9.55462853563415,
    "scale": 36111.909643
   },
   {
    "level": 15,
    "resolution": 4.77731426794937,
    "scale": 18055.954822
   },
   {
    "level": 16,
    "resolution": 2.38865713397468,
    "scale": 9027.977411
   },
   {
    "level": 17,
    "resolution": 1.19432856685505,
    "scale": 4513.988705
   },
   {
    "level": 18,
    "resolution": 0.597164283559817,
    "scale": 2256.994353
   },
   {
    "level": 19,
    "resolution": 0.298582141647617,
    "scale": 1128.497176
   }
  ]
 },
 "initialExtent": {
  "xmin": 1036658.9922613571,
  "ymin": 5716994.871901753,
  "xmax": 1048540.1238711136,
  "ymax": 5723539.653670584,
  "spatialReference": {
   "cs": "pcs",
   "wkid": 102100
  }
 },
 "fullExtent": {
  "xmin": 1036658.9922613574,
  "ymin": 5713743.869193053,
  "xmax": 1048540.1238711139,
  "ymax": 5723539.653670584,
  "spatialReference": {
   "cs": "pcs",
   "wkid": 102100
  }
 },
 "minScale": 5.91657527591555E8,
 "maxScale": 1128.497176,
 "units": "esriMeters",
