{
 "currentVersion": 10.5,
 "serviceDescription": " Un database topografico <\/SPAN><\/SPAN>costituisce la base cartografica digitale di riferimento utile per gli strumenti di pianificazione. Al suo interno è<\/SPAN><\/SPAN>possibile archiviare numerosi oggetti, di diversa geometria, legati fra loro attraverso relazioni topologiche. Ogni singolo oggetto possiede una posizione geografica, sotto forma di coordinate, una relazione di vicinanza con gli oggetti vicini ed una tabella contenente i suoi attributi.<\/SPAN><\/SPAN><\/P><\/DIV><\/DIV><\/DIV>",
 "mapName": "Database Topografico",
 "description": "",
 "copyrightText": "Globo srl",
 "supportsDynamicLayers": true,
 "layers": [
  {
   "id": 0,
   "name": "_Comune",
   "parentLayerId": -1,
   "defaultVisibility": true,
   "subLayerIds": null,
   "minScale": 120000,
   "maxScale": 25011
  },
  {
   "id": 1,
   "name": "Database topografico",
   "parentLayerId": -1,
   "defaultVisibility": true,
   "subLayerIds": [
    2,
    3,
    4,
    5,
    6,
    11,
    12,
    13,
    14,
    15,
    16,
    17,
    18,
    19,
    20,
    21,
    22,
    23,
    24,
    25,
    26,
    27,
    28,
    29,
    30,
    31,
    32,
    33,
    34,
    35,
    36,
    37,
    38,
    39,
    40,
    41,
    42,
    43,
    44,
    45,
    46,
    47,
    48,
    49,
    50,
    51,
    52,
    53,
    54,
    55,
    56,
    57,
    58,
    59,
    60,
    61,
    62,
    63,
    64,
    65,
    66,
    67,
    68,
    69,
    70,
    71,
    72,
    73,
    74,
    75,
    76,
    77,
    78,
    79,
    80,
    81,
    82,
    83,
    84,
    85,
    86,
    87,
    88,
    89,
    90,
    91,
    92,
    93,
    94,
    95,
    96,
    97,
    98
   ],
   "minScale": 25011,
   "maxScale": 0
  },
  {
   "id": 2,
   "name": "#Limite amministrativo",
   "parentLayerId": 1,
   "defaultVisibility": true,
   "subLayerIds": null,
   "minScale": 50010,
   "maxScale": 5011
  },
  {
   "id": 3,
   "name": "Limite amministrativo",
   "parentLayerId": 1,
   "defaultVisibility": true,
   "subLayerIds": null,
   "minScale": 5010,
   "maxScale": 0
  },
  {
   "id": 4,
   "name": "_#Informazioni cartografiche",
   "parentLayerId": 1,
   "defaultVisibility": true,
   "subLayerIds": null,
   "minScale": 50010,
   "maxScale": 0
  },
  {
   "id": 5,
   "name": "_Vestizione puntuale",
   "parentLayerId": 1,
   "defaultVisibility": true,
   "subLayerIds": null,
   "minScale": 2270,
   "maxScale": 0
  },
  {
   "id": 6,
   "name": "Scritte cartografiche",
   "parentLayerId": 1,
   "defaultVisibility": true,
   "subLayerIds": [
    7,
    8,
    9,
    10
   ],
   "minScale": 0,
   "maxScale": 0
  },
  {
   "id": 7,
   "name": "_#Etichette punti quotati",
   "parentLayerId": 6,
   "defaultVisibility": true,
   "subLayerIds": null,
   "minScale": 1500,
   "maxScale": 0
  },
  {
   "id": 8,
   "name": "_#Località significative",
   "parentLayerId": 6,
   "defaultVisibility": true,
   "subLayerIds": null,
   "minScale": 12500,
   "maxScale": 3000
  },
  {
   "id": 9,
   "name": "_#Scritta cartografica 2k",
   "parentLayerId": 6,
   "defaultVisibility": true,
   "subLayerIds": null,
   "minScale": 1000,
   "maxScale": 0
  },
  {
   "id": 10,
   "name": "_#Toponimi",
   "parentLayerId": 6,
   "defaultVisibility": true,
   "subLayerIds": null,
   "minScale": 3000,
   "maxScale": 0
  },
  {
   "id": 11,
   "name": "Accessi",
   "parentLayerId": 1,
   "defaultVisibility": true,
   "subLayerIds": null,
   "minScale": 2010,
   "maxScale": 0
  },
  {
   "id": 12,
   "name": "Punti quotati",
   "parentLayerId": 1,
   "defaultVisibility": true,
   "subLayerIds": null,
   "minScale": 2270,
   "maxScale": 0
  },
  {
   "id": 13,
   "name": "Albero isolato",
   "parentLayerId": 1,
   "defaultVisibility": true,
   "subLayerIds": null,
   "minScale": 5010,
   "maxScale": 0
  },
  {
   "id": 14,
   "name": "Emergenza naturale dell'acqua",
   "parentLayerId": 1,
   "defaultVisibility": true,
   "subLayerIds": null,
   "minScale": 50010,
   "maxScale": 0
  },
  {
   "id": 15,
   "name": "Localizzazione di manufatto industriale/di trasporto",
   "parentLayerId": 1,
   "defaultVisibility": true,
   "subLayerIds": null,
   "minScale": 2270,
   "maxScale": 0
  },
  {
   "id": 16,
   "name": "Localizzazione manufatto edilizio arredo/igiene urbana",
   "parentLayerId": 1,
   "defaultVisibility": true,
   "subLayerIds": null,
   "minScale": 2270,
   "maxScale": 0
  },
  {
   "id": 17,
   "name": "Palo",
   "parentLayerId": 1,
   "defaultVisibility": true,
   "subLayerIds": null,
   "minScale": 2270,
   "maxScale": 0
  },
  {
   "id": 18,
   "name": "Sostegno a traliccio",
   "parentLayerId": 1,
   "defaultVisibility": true,
   "subLayerIds": null,
   "minScale": 2270,
   "maxScale": 0
  },
  {
   "id": 19,
   "name": "Rete elettrica",
   "parentLayerId": 1,
   "defaultVisibility": true,
   "subLayerIds": null,
   "minScale": 10010,
   "maxScale": 0
  },
  {
   "id": 20,
   "name": "Manufatto di rete tecnologica",
   "parentLayerId": 1,
   "defaultVisibility": true,
   "subLayerIds": null,
   "minScale": 50010,
   "maxScale": 0
  },
  {
   "id": 21,
   "name": "Filare di alberi",
   "parentLayerId": 1,
   "defaultVisibility": true,
   "subLayerIds": null,
   "minScale": 2270,
   "maxScale": 0
  },
  {
   "id": 22,
   "name": "Elemento divisorio",
   "parentLayerId": 1,
   "defaultVisibility": true,
   "subLayerIds": null,
   "minScale": 2270,
   "maxScale": 0
  },
  {
   "id": 23,
   "name": "Condotta",
   "parentLayerId": 1,
   "defaultVisibility": true,
   "subLayerIds": null,
   "minScale": 10010,
   "maxScale": 0
  },
  {
   "id": 24,
   "name": "Tratto di linea di oleodotto",
   "parentLayerId": 1,
   "defaultVisibility": true,
   "subLayerIds": null,
   "minScale": 10010,
   "maxScale": 0
  },
  {
   "id": 25,
   "name": "_Vestizioni generiche lineari",
   "parentLayerId": 1,
   "defaultVisibility": true,
   "subLayerIds": null,
   "minScale": 2270,
   "maxScale": 0
  },
  {
   "id": 26,
   "name": "Viabilità mista secondaria",
   "parentLayerId": 1,
   "defaultVisibility": true,
   "subLayerIds": null,
   "minScale": 10010,
   "maxScale": 0
  },
  {
   "id": 27,
   "name": "Binario industriale",
   "parentLayerId": 1,
   "defaultVisibility": true,
   "subLayerIds": null,
   "minScale": 10010,
   "maxScale": 0
  },
  {
   "id": 28,
   "name": "Elemento ferroviario",
   "parentLayerId": 1,
   "defaultVisibility": true,
   "subLayerIds": null,
   "minScale": 10010,
   "maxScale": 0
  },
  {
   "id": 29,
   "name": "_#Elemento di metropolitana",
   "parentLayerId": 1,
   "defaultVisibility": true,
   "subLayerIds": null,
   "minScale": 2270,
   "maxScale": 0
  },
  {
   "id": 30,
   "name": "Elemento di metropolitana",
   "parentLayerId": 1,
   "defaultVisibility": true,
   "subLayerIds": null,
   "minScale": 50010,
   "maxScale": 0
  },
  {
   "id": 31,
   "name": "Breakline",
   "parentLayerId": 1,
   "defaultVisibility": true,
   "subLayerIds": null,
   "minScale": 10010,
   "maxScale": 0
  },
  {
   "id": 32,
   "name": "Scarpata",
   "parentLayerId": 1,
   "defaultVisibility": true,
   "subLayerIds": null,
   "minScale": 2270,
   "maxScale": 0
  },
  {
   "id": 33,
   "name": "Elemento di copertura",
   "parentLayerId": 1,
   "defaultVisibility": true,
   "subLayerIds": null,
   "minScale": 10010,
   "maxScale": 0
  },
  {
   "id": 34,
   "name": "Particolare architettonico",
   "parentLayerId": 1,
   "defaultVisibility": true,
   "subLayerIds": null,
   "minScale": 2270,
   "maxScale": 0
  },
  {
   "id": 35,
   "name": "#Limiti Edifici minori",
   "parentLayerId": 1,
   "defaultVisibility": true,
   "subLayerIds": null,
   "minScale": 10010,
   "maxScale": 0
  },
  {
   "id": 36,
   "name": "#Limiti Muro o divisione in spessore",
   "parentLayerId": 1,
   "defaultVisibility": true,
   "subLayerIds": null,
   "minScale": 10010,
   "maxScale": 0
  },
  {
   "id": 37,
   "name": "#Limiti Galleria",
   "parentLayerId": 1,
   "defaultVisibility": true,
   "subLayerIds": null,
   "minScale": 10010,
   "maxScale": 0
  },
  {
   "id": 38,
   "name": "#Limiti Aree di circolazione ciclabile",
   "parentLayerId": 1,
   "defaultVisibility": true,
   "subLayerIds": null,
   "minScale": 10010,
   "maxScale": 0
  },
  {
   "id": 39,
   "name": "#Limiti Area stradale",
   "parentLayerId": 1,
   "defaultVisibility": true,
   "subLayerIds": null,
   "minScale": 10010,
   "maxScale": 0
  },
  {
   "id": 40,
   "name": "#Limiti Area di circolazione pedonale",
   "parentLayerId": 1,
   "defaultVisibility": true,
   "subLayerIds": null,
   "minScale": 2270,
   "maxScale": 0
  },
  {
   "id": 41,
   "name": "#Limiti Area verde",
   "parentLayerId": 1,
   "defaultVisibility": true,
   "subLayerIds": null,
   "minScale": 2270,
   "maxScale": 0
  },
  {
   "id": 42,
   "name": "#Limiti Viabilità mista secondaria",
   "parentLayerId": 1,
   "defaultVisibility": true,
   "subLayerIds": null,
   "minScale": 10010,
   "maxScale": 0
  },
  {
   "id": 43,
   "name": "#Limite Copertura non vegetata",
   "parentLayerId": 1,
   "defaultVisibility": true,
   "subLayerIds": null,
   "minScale": 10010,
   "maxScale": 0
  },
  {
   "id": 44,
   "name": "#Limiti Argini",
   "parentLayerId": 1,
   "defaultVisibility": true,
   "subLayerIds": null,
   "minScale": 10010,
   "maxScale": 0
  },
  {
   "id": 45,
   "name": "#Limiti Specchio d'acqua",
   "parentLayerId": 1,
   "defaultVisibility": true,
   "subLayerIds": null,
   "minScale": 10010,
   "maxScale": 0
  },
  {
   "id": 46,
   "name": "#Limiti Aree bagnate di corso d'acqua",
   "parentLayerId": 1,
   "defaultVisibility": true,
   "subLayerIds": null,
   "minScale": 10010,
   "maxScale": 0
  },
  {
   "id": 47,
   "name": "#Limiti Bosco",
   "parentLayerId": 1,
   "defaultVisibility": true,
   "subLayerIds": null,
   "minScale": 10010,
   "maxScale": 0
  },
  {
   "id": 48,
   "name": "#Limiti Colture agricole",
   "parentLayerId": 1,
   "defaultVisibility": true,
   "subLayerIds": null,
   "minScale": 10010,
   "maxScale": 0
  },
  {
   "id": 49,
   "name": "#Limiti Pascoli o incolti",
   "parentLayerId": 1,
   "defaultVisibility": true,
   "subLayerIds": null,
   "minScale": 10010,
   "maxScale": 0
  },
  {
   "id": 50,
   "name": "#Limiti Alveo naturale",
   "parentLayerId": 1,
   "defaultVisibility": true,
   "subLayerIds": null,
   "minScale": 2270,
   "maxScale": 0
  },
  {
   "id": 51,
   "name": "#Limiti Unità volumetrica",
   "parentLayerId": 1,
   "defaultVisibility": true,
   "subLayerIds": null,
   "minScale": 2270,
   "maxScale": 0
  },
  {
   "id": 52,
   "name": "Ponte/viadotto/cavalcavia",
   "parentLayerId": 1,
   "defaultVisibility": true,
   "subLayerIds": null,
   "minScale": 2270,
   "maxScale": 0
  },
  {
   "id": 53,
   "name": "Muro o divisione in spessore",
   "parentLayerId": 1,
   "defaultVisibility": true,
   "subLayerIds": null,
   "minScale": 10010,
   "maxScale": 0
  },
  {
   "id": 54,
   "name": "Manufatto industriale",
   "parentLayerId": 1,
   "defaultVisibility": true,
   "subLayerIds": null,
   "minScale": 50010,
   "maxScale": 0
  },
  {
   "id": 55,
   "name": "Gradinata",
   "parentLayerId": 1,
   "defaultVisibility": true,
   "subLayerIds": null,
   "minScale": 10010,
   "maxScale": 0
  },
  {
   "id": 56,
   "name": "Attrezzatura sportiva",
   "parentLayerId": 1,
   "defaultVisibility": true,
   "subLayerIds": null,
   "minScale": 10010,
   "maxScale": 0
  },
  {
   "id": 57,
   "name": "Sostegno a traliccio",
   "parentLayerId": 1,
   "defaultVisibility": true,
   "subLayerIds": null,
   "minScale": 2270,
   "maxScale": 0
  },
  {
   "id": 58,
   "name": "Manufatto monumentale e di arredo urbano",
   "parentLayerId": 1,
   "defaultVisibility": true,
   "subLayerIds": null,
   "minScale": 10010,
   "maxScale": 0
  },
  {
   "id": 59,
   "name": "Manufatto di infrastruttura di trasporto",
   "parentLayerId": 1,
   "defaultVisibility": true,
   "subLayerIds": null,
   "minScale": 10010,
   "maxScale": 0
  },
  {
   "id": 60,
   "name": "_Edificio - stato",
   "parentLayerId": 1,
   "defaultVisibility": true,
   "subLayerIds": null,
   "minScale": 50010,
   "maxScale": 0
  },
  {
   "id": 61,
   "name": "Edificio",
   "parentLayerId": 1,
   "defaultVisibility": true,
   "subLayerIds": null,
   "minScale": 50010,
   "maxScale": 0
  },
  {
   "id": 62,
   "name": "Edificio minore",
   "parentLayerId": 1,
   "defaultVisibility": true,
   "subLayerIds": null,
   "minScale": 10010,
   "maxScale": 0
  },
  {
   "id": 63,
   "name": "Unità volumetrica",
   "parentLayerId": 1,
   "defaultVisibility": true,
   "subLayerIds": null,
   "minScale": 2270,
   "maxScale": 0
  },
  {
   "id": 64,
   "name": "Muro di sostegno e ritenuta del terreno",
   "parentLayerId": 1,
   "defaultVisibility": true,
   "subLayerIds": null,
   "minScale": 2270,
   "maxScale": 0
  },
  {
   "id": 65,
   "name": "#Curve di livello 10.000",
   "parentLayerId": 1,
   "defaultVisibility": true,
   "subLayerIds": null,
   "minScale": 30010,
   "maxScale": 5011
  },
  {
   "id": 66,
   "name": "#Curve di livello 5.000",
   "parentLayerId": 1,
   "defaultVisibility": true,
   "subLayerIds": null,
   "minScale": 5010,
   "maxScale": 2271
  },
  {
   "id": 67,
   "name": "#Curve di livello 2.000",
   "parentLayerId": 1,
   "defaultVisibility": true,
   "subLayerIds": null,
   "minScale": 2270,
   "maxScale": 1151
  },
  {
   "id": 68,
   "name": "Curve di livello",
   "parentLayerId": 1,
   "defaultVisibility": true,
   "subLayerIds": null,
   "minScale": 1150,
   "maxScale": 0
  },
  {
   "id": 69,
   "name": "Bosco",
   "parentLayerId": 1,
   "defaultVisibility": true,
   "subLayerIds": null,
   "minScale": 50010,
   "maxScale": 0
  },
  {
   "id": 70,
   "name": "Pascolo o incolto",
   "parentLayerId": 1,
   "defaultVisibility": true,
   "subLayerIds": null,
   "minScale": 50010,
   "maxScale": 0
  },
  {
   "id": 71,
   "name": "Coltura agricola",
   "parentLayerId": 1,
   "defaultVisibility": true,
   "subLayerIds": null,
   "minScale": 50010,
   "maxScale": 0
  },
  {
   "id": 72,
   "name": "Formazione particolare",
   "parentLayerId": 1,
   "defaultVisibility": true,
   "subLayerIds": null,
   "minScale": 50010,
   "maxScale": 0
  },
  {
   "id": 73,
   "name": "Area di circolazione pedonale",
   "parentLayerId": 1,
   "defaultVisibility": true,
   "subLayerIds": null,
   "minScale": 2270,
   "maxScale": 0
  },
  {
   "id": 74,
   "name": "#Area stradale",
   "parentLayerId": 1,
   "defaultVisibility": true,
   "subLayerIds": null,
   "minScale": 10010,
   "maxScale": 0
  },
  {
   "id": 75,
   "name": "Area di circolazione ciclabile",
   "parentLayerId": 1,
   "defaultVisibility": true,
   "subLayerIds": null,
   "minScale": 10010,
   "maxScale": 0
  },
  {
   "id": 76,
   "name": "Area di circolazione veicolare",
   "parentLayerId": 1,
   "defaultVisibility": true,
   "subLayerIds": null,
   "minScale": 10010,
   "maxScale": 0
  },
  {
   "id": 77,
   "name": "#Aree a servizio stradale",
   "parentLayerId": 1,
   "defaultVisibility": true,
   "subLayerIds": null,
   "minScale": 50010,
   "maxScale": 0
  },
  {
   "id": 78,
   "name": "Viabilità mista secondaria",
   "parentLayerId": 1,
   "defaultVisibility": true,
   "subLayerIds": null,
   "minScale": 10010,
   "maxScale": 0
  },
  {
   "id": 79,
   "name": "#Area a servizio aeroportuale",
   "parentLayerId": 1,
   "defaultVisibility": true,
   "subLayerIds": null,
   "minScale": 50010,
   "maxScale": 0
  },
  {
   "id": 80,
   "name": "#Area a servizio del trasporto su ferro",
   "parentLayerId": 1,
   "defaultVisibility": true,
   "subLayerIds": null,
   "minScale": 50010,
   "maxScale": 0
  },
  {
   "id": 81,
   "name": "Sede di trasporto su ferro",
   "parentLayerId": 1,
   "defaultVisibility": true,
   "subLayerIds": null,
   "minScale": 50010,
   "maxScale": 0
  },
  {
   "id": 82,
   "name": "Galleria",
   "parentLayerId": 1,
   "defaultVisibility": true,
   "subLayerIds": null,
   "minScale": 50010,
   "maxScale": 0
  },
  {
   "id": 83,
   "name": "Area verde",
   "parentLayerId": 1,
   "defaultVisibility": true,
   "subLayerIds": null,
   "minScale": 50010,
   "maxScale": 0
  },
  {
   "id": 84,
   "name": "Area attrezzata al suolo",
   "parentLayerId": 1,
   "defaultVisibility": true,
   "subLayerIds": null,
   "minScale": 50010,
   "maxScale": 0
  },
  {
   "id": 85,
   "name": "Area bagnata di corso d'acqua",
   "parentLayerId": 1,
   "defaultVisibility": true,
   "subLayerIds": null,
   "minScale": 50010,
   "maxScale": 0
  },
  {
   "id": 86,
   "name": "Specchio d'acqua",
   "parentLayerId": 1,
   "defaultVisibility": true,
   "subLayerIds": null,
   "minScale": 50010,
   "maxScale": 0
  },
  {
   "id": 87,
   "name": "Invaso artificiale",
   "parentLayerId": 1,
   "defaultVisibility": true,
   "subLayerIds": null,
   "minScale": 10010,
   "maxScale": 0
  },
  {
   "id": 88,
   "name": "#Alveo specchio d'acqua",
   "parentLayerId": 1,
   "defaultVisibility": true,
   "subLayerIds": null,
   "minScale": 10010,
   "maxScale": 0
  },
  {
   "id": 89,
   "name": "Opere idrauliche di regolazione",
   "parentLayerId": 1,
   "defaultVisibility": true,
   "subLayerIds": null,
   "minScale": 2270,
   "maxScale": 0
  },
  {
   "id": 90,
   "name": "Area in trasformazione o non strutturata",
   "parentLayerId": 1,
   "defaultVisibility": true,
   "subLayerIds": null,
   "minScale": 50010,
   "maxScale": 0
  },
  {
   "id": 91,
   "name": "Area di scavo o discarica",
   "parentLayerId": 1,
   "defaultVisibility": true,
   "subLayerIds": null,
   "minScale": 50010,
   "maxScale": 0
  },
  {
   "id": 92,
   "name": "#Area estrattiva",
   "parentLayerId": 1,
   "defaultVisibility": true,
   "subLayerIds": null,
   "minScale": 50010,
   "maxScale": 0
  },
  {
   "id": 93,
   "name": "#Argini",
   "parentLayerId": 1,
   "defaultVisibility": true,
   "subLayerIds": null,
   "minScale": 10010,
   "maxScale": 0
  },
  {
   "id": 94,
   "name": "Alveo naturale",
   "parentLayerId": 1,
   "defaultVisibility": true,
   "subLayerIds": null,
   "minScale": 2270,
   "maxScale": 0
  },
  {
   "id": 95,
   "name": "Alveo artificiale",
   "parentLayerId": 1,
   "defaultVisibility": true,
   "subLayerIds": null,
   "minScale": 2270,
   "maxScale": 0
  },
  {
   "id": 96,
   "name": "Unità insediativa",
   "parentLayerId": 1,
   "defaultVisibility": true,
   "subLayerIds": null,
   "minScale": 50010,
   "maxScale": 0
  },
  {
   "id": 97,
   "name": "Copertura non vegetata",
   "parentLayerId": 1,
   "defaultVisibility": true,
   "subLayerIds": null,
   "minScale": 50010,
   "maxScale": 0
  },
  {
   "id": 98,
   "name": "Aree temporaneamente prive di vegetazione",
   "parentLayerId": 1,
   "defaultVisibility": true,
   "subLayerIds": null,
   "minScale": 50010,
   "maxScale": 0
  },
  {
   "id": 99,
   "name": "_#Sfondo bianco",
   "parentLayerId": -1,
   "defaultVisibility": true,
   "subLayerIds": null,
   "minScale": 10000,
   "maxScale": 0
  }
 ],
 "tables": [
  {
   "id": 100,
   "name": "T030101"
  }
 ],
 "spatialReference": {
  "wkid": 102100,
  "latestWkid": 3857
 },
 "singleFusedMapCache": true,
 "tileInfo": {
  "rows": 256,
  "cols": 256,
  "dpi": 96,
  "format": "PNG",
  "compressionQuality": 0,
  "origin": {
   "x": -2.0037508342787E7,
   "y": 2.0037508342787E7
  },
  "spatialReference": {
   "wkid": 102100,
   "latestWkid": 3857
  },
  "lods": [
   {
    "level": 0,
    "resolution": 156543.03392800014,
    "scale": 5.91657527591555E8
   },
   {
    "level": 1,
    "resolution": 78271.51696399994,
    "scale": 2.95828763795777E8
   },
   {
    "level": 2,
    "resolution": 39135.75848200009,
    "scale": 1.47914381897889E8
   },
   {
    "level": 3,
    "resolution": 19567.87924099992,
    "scale": 7.3957190948944E7
   },
   {
    "level": 4,
    "resolution": 9783.93962049996,
    "scale": 3.6978595474472E7
   },
   {
    "level": 5,
    "resolution": 4891.96981024998,
    "scale": 1.8489297737236E7
   },
   {
    "level": 6,
    "resolution": 2445.98490512499,
    "scale": 9244648.868618
   },
   {
    "level": 7,
    "resolution": 1222.992452562495,
    "scale": 4622324.434309
   },
   {
    "level": 8,
    "resolution": 611.4962262813797,
    "scale": 2311162.217155
   },
   {
    "level": 9,
    "resolution": 305.74811314055756,
    "scale": 1155581.108577
   },
   {
    "level": 10,
    "resolution": 152.87405657041106,
    "scale": 577790.554289
   },
   {
    "level": 11,
    "resolution": 76.43702828507324,
    "scale": 288895.277144
   },
   {
    "level": 12,
    "resolution": 38.21851414253662,
    "scale": 144447.638572
   },
   {
    "level": 13,
    "resolution": 19.10925707126831,
    "scale": 72223.819286
   },
   {
    "level": 14,
    "resolution": 9.554628535634155,
    "scale": 36111.909643
   },
   {
    "level": 15,
    "resolution": 4.77731426794937,
    "scale": 18055.954822
   },
   {
    "level": 16,
    "resolution": 2.388657133974685,
    "scale": 9027.977411
   },
   {
    "level": 17,
    "resolution": 1.1943285668550503,
    "scale": 4513.988705
   },
   {
    "level": 18,
    "resolution": 0.5971642835598172,
    "scale": 2256.994353
   },
   {
    "level": 19,
    "resolution": 0.29858214164761665,
    "scale": 1128.497176
   },
   {
    "level": 20,
    "resolution": 0.13546693760054188,
    "scale": 512
   }
  ]
 },
 "initialExtent": {
  "xmin": 1035245.1684904199,
  "ymin": 5716785.222169194,
  "xmax": 1049949.7073247957,
  "ymax": 5724161.59738775,
  "spatialReference": {
   "cs": "pcs",
   "wkid": 102100
  }
 },
 "fullExtent": {
  "xmin": 1035245.1684904199,
  "ymin": 5713743.420666411,
  "xmax": 1049949.7073247957,
  "ymax": 5723539.31708262,
  "spatialReference": {
   "cs": "pcs",
   "wkid": 102100
  }
 },
 "minScale": 9244648.868618,
 "maxScale": 512,
 "units": "esriMeters",
 "supportedImageFormatTypes": "PNG32,PNG24,PNG,JPG,DIB,TIFF,EMF,PS,PDF,GIF,SVG,SVGZ,BMP",
 "documentInfo": {
  "Title": "DBT",
  "Author": "Globo srl",
  "Comments": "Database topografico",
  "Subject": "Database topografico",
  "Category": "",
  "AntialiasingMode": "None",
  "TextAntialiasingMode": "Force",
  "Keywords": "Database Topografico; Strati informativi; Pianificazione."
 },
 "capabilities": "Map,Query,Data",
 "supportedQueryFormats": "JSON, AMF, geoJSON",
 "exportTilesAllowed": false,
 "supportsDatumTransformation": true,
 "maxRecordCount": 1000,
 "maxImageHeight": 4096,
 "maxImageWidth": 4096,
 "supportedExtensions": ""
}
